Package: hyperdraw Version: 1.59.0 Command: rm -rf hyperdraw.buildbin-libdir && mkdir hyperdraw.buildbin-libdir && E:\biocbuild\bbs-3.21-bioc\R\bin\R.exe CMD INSTALL --build --library=hyperdraw.buildbin-libdir hyperdraw_1.59.0.tar.gz StartedAt: 2025-02-05 08:08:03 -0500 (Wed, 05 Feb 2025) EndedAt: 2025-02-05 08:08:24 -0500 (Wed, 05 Feb 2025) EllapsedTime: 21.7 seconds RetCode: 0 Status: OK PackageFile: hyperdraw_1.59.0.zip PackageFileSize: 278.7 KiB