Package: hyperdraw Version: 1.59.0 Command: chmod a+r hyperdraw -R && E:\biocbuild\bbs-3.21-bioc\R\bin\R.exe CMD build --keep-empty-dirs --no-resave-data hyperdraw StartedAt: 2025-02-04 19:20:47 -0500 (Tue, 04 Feb 2025) EndedAt: 2025-02-04 19:21:03 -0500 (Tue, 04 Feb 2025) EllapsedTime: 16.1 seconds RetCode: 0 Status: OK PackageFile: hyperdraw_1.59.0.tar.gz PackageFileSize: 89.43 KiB