Package: hyperdraw Version: 1.59.0 Command: E:\biocbuild\bbs-3.21-bioc\R\bin\R.exe CMD check --no-multiarch --install=check:hyperdraw.install-out.txt --library=E:\biocbuild\bbs-3.21-bioc\R\library --no-vignettes --timings hyperdraw_1.59.0.tar.gz StartedAt: 2025-02-05 02:28:26 -0500 (Wed, 05 Feb 2025) EndedAt: 2025-02-05 02:29:14 -0500 (Wed, 05 Feb 2025) EllapsedTime: 48.0 seconds RetCode: 0 Status: OK CheckDir: hyperdraw.Rcheck Warnings: 0