Package: hyperdraw Version: 1.59.0 Command: E:\biocbuild\bbs-3.21-bioc\R\bin\R.exe CMD INSTALL hyperdraw StartedAt: 2025-02-04 16:13:07 -0500 (Tue, 04 Feb 2025) EndedAt: 2025-02-04 16:13:23 -0500 (Tue, 04 Feb 2025) EllapsedTime: 16.6 seconds RetCode: 0 Status: OK