Package: hypergraph Version: 1.79.0 Command: /Library/Frameworks/R.framework/Resources/bin/R CMD build --keep-empty-dirs --no-resave-data hypergraph StartedAt: 2025-02-09 16:38:52 -0500 (Sun, 09 Feb 2025) EndedAt: 2025-02-09 16:38:53 -0500 (Sun, 09 Feb 2025) EllapsedTime: 1.0 seconds RetCode: 0 Status: OK PackageFile: hypergraph_1.79.0.tar.gz PackageFileSize: 8.269 KiB