Package: hypergraph Version: 1.79.0 Command: /Library/Frameworks/R.framework/Resources/bin/R CMD check --install=check:hypergraph.install-out.txt --library=/Library/Frameworks/R.framework/Resources/library --no-vignettes --timings hypergraph_1.79.0.tar.gz StartedAt: 2025-02-09 21:20:29 -0500 (Sun, 09 Feb 2025) EndedAt: 2025-02-09 21:21:06 -0500 (Sun, 09 Feb 2025) EllapsedTime: 36.8 seconds RetCode: 0 Status: OK CheckDir: hypergraph.Rcheck Warnings: 0