Package: hypergraph Version: 1.79.0 Command: E:\biocbuild\bbs-3.21-bioc\R\bin\R.exe CMD INSTALL hypergraph StartedAt: 2025-02-09 15:22:48 -0500 (Sun, 09 Feb 2025) EndedAt: 2025-02-09 15:23:11 -0500 (Sun, 09 Feb 2025) EllapsedTime: 22.6 seconds RetCode: 0 Status: OK