Package: iASeq Version: 1.51.0 Command: rm -rf iASeq.buildbin-libdir && mkdir iASeq.buildbin-libdir && /Users/biocbuild/BBS/utils/build-universal.sh iASeq_1.51.0.tar.gz /Library/Frameworks/R.framework/Resources/bin/R iASeq.buildbin-libdir StartedAt: 2025-02-12 22:22:54 -0500 (Wed, 12 Feb 2025) EndedAt: 2025-02-12 22:22:56 -0500 (Wed, 12 Feb 2025) EllapsedTime: 2.0 seconds RetCode: 0 Status: OK PackageFile: iASeq_1.51.0.tgz PackageFileSize: 254.4 KiB