Package: iASeq Version: 1.51.0 Command: /Library/Frameworks/R.framework/Resources/bin/R CMD build --keep-empty-dirs --no-resave-data iASeq StartedAt: 2025-02-12 16:39:14 -0500 (Wed, 12 Feb 2025) EndedAt: 2025-02-12 16:39:18 -0500 (Wed, 12 Feb 2025) EllapsedTime: 4.0 seconds RetCode: 0 Status: OK PackageFile: iASeq_1.51.0.tar.gz PackageFileSize: 205.5 KiB