Package: iASeq Version: 1.51.0 Command: /Library/Frameworks/R.framework/Resources/bin/R CMD build --keep-empty-dirs --no-resave-data iASeq StartedAt: 2025-02-12 17:04:17 -0500 (Wed, 12 Feb 2025) EndedAt: 2025-02-12 17:04:33 -0500 (Wed, 12 Feb 2025) EllapsedTime: 16.2 seconds RetCode: 0 Status: OK PackageFile: iASeq_1.51.0.tar.gz PackageFileSize: 205.6 KiB