Package: iASeq Version: 1.51.0 Command: /home/biocbuild/bbs-3.21-bioc/R/bin/R CMD build --keep-empty-dirs --no-resave-data iASeq StartedAt: 2025-02-09 17:41:31 -0500 (Sun, 09 Feb 2025) EndedAt: 2025-02-09 17:41:39 -0500 (Sun, 09 Feb 2025) EllapsedTime: 8.0 seconds RetCode: 0 Status: OK PackageFile: iASeq_1.51.0.tar.gz PackageFileSize: 205.6 KiB