Package: iASeq Version: 1.51.0 Command: /home/biocbuild/bbs-3.21-bioc/R/bin/R CMD INSTALL iASeq StartedAt: 2025-02-09 15:02:51 -0500 (Sun, 09 Feb 2025) EndedAt: 2025-02-09 15:02:58 -0500 (Sun, 09 Feb 2025) EllapsedTime: 6.1 seconds RetCode: 0 Status: OK