Package: iASeq Version: 1.51.0 Command: chmod a+r iASeq -R && E:\biocbuild\bbs-3.21-bioc\R\bin\R.exe CMD build --keep-empty-dirs --no-resave-data iASeq StartedAt: 2025-02-12 19:22:57 -0500 (Wed, 12 Feb 2025) EndedAt: 2025-02-12 19:23:09 -0500 (Wed, 12 Feb 2025) EllapsedTime: 12.4 seconds RetCode: 0 Status: OK PackageFile: iASeq_1.51.0.tar.gz PackageFileSize: 112.4 KiB