Package: iASeq Version: 1.51.0 Command: E:\biocbuild\bbs-3.21-bioc\R\bin\R.exe CMD check --no-multiarch --install=check:iASeq.install-out.txt --library=E:\biocbuild\bbs-3.21-bioc\R\library --no-vignettes --timings iASeq_1.51.0.tar.gz StartedAt: 2025-02-13 02:12:37 -0500 (Thu, 13 Feb 2025) EndedAt: 2025-02-13 02:13:09 -0500 (Thu, 13 Feb 2025) EllapsedTime: 31.7 seconds RetCode: 0 Status: OK CheckDir: iASeq.Rcheck Warnings: 0