Package: iBBiG Version: 1.51.0 Command: /Library/Frameworks/R.framework/Resources/bin/R CMD build --keep-empty-dirs --no-resave-data iBBiG StartedAt: 2025-02-09 16:38:54 -0500 (Sun, 09 Feb 2025) EndedAt: 2025-02-09 16:39:08 -0500 (Sun, 09 Feb 2025) EllapsedTime: 14.2 seconds RetCode: 0 Status: OK PackageFile: iBBiG_1.51.0.tar.gz PackageFileSize: 910 KiB