Package: iBBiG Version: 1.51.0 Command: rm -rf iBBiG.buildbin-libdir && mkdir iBBiG.buildbin-libdir && /Users/biocbuild/BBS/utils/build-universal.sh iBBiG_1.51.0.tar.gz /Library/Frameworks/R.framework/Resources/bin/R iBBiG.buildbin-libdir StartedAt: 2025-02-10 00:58:16 -0500 (Mon, 10 Feb 2025) EndedAt: 2025-02-10 00:58:33 -0500 (Mon, 10 Feb 2025) EllapsedTime: 17.4 seconds RetCode: 0 Status: OK PackageFile: iBBiG_1.51.0.tgz PackageFileSize: 1.091 MiB