Package: iBBiG Version: 1.51.0 Command: E:\biocbuild\bbs-3.21-bioc\R\bin\R.exe CMD check --no-multiarch --install=check:iBBiG.install-out.txt --library=E:\biocbuild\bbs-3.21-bioc\R\library --no-vignettes --timings iBBiG_1.51.0.tar.gz StartedAt: 2025-02-13 02:12:43 -0500 (Thu, 13 Feb 2025) EndedAt: 2025-02-13 02:14:52 -0500 (Thu, 13 Feb 2025) EllapsedTime: 128.8 seconds RetCode: 0 Status: OK CheckDir: iBBiG.Rcheck Warnings: 0