Package: iBMQ Version: 1.47.0 Command: /home/biocbuild/R/R/bin/R CMD check --install=check:iBMQ.install-out.txt --library=/home/biocbuild/R/R/site-library --no-vignettes --timings iBMQ_1.47.0.tar.gz StartedAt: 2025-01-28 11:35:02 -0000 (Tue, 28 Jan 2025) EndedAt: 2025-01-28 11:35:42 -0000 (Tue, 28 Jan 2025) EllapsedTime: 40.0 seconds RetCode: 0 Status: OK CheckDir: iBMQ.Rcheck Warnings: 0