Package: iBMQ Version: 1.47.0 Command: rm -rf iBMQ.buildbin-libdir && mkdir iBMQ.buildbin-libdir && E:\biocbuild\bbs-3.21-bioc\R\bin\R.exe CMD INSTALL --build --library=iBMQ.buildbin-libdir iBMQ_1.47.0.tar.gz StartedAt: 2025-02-10 07:56:46 -0500 (Mon, 10 Feb 2025) EndedAt: 2025-02-10 07:57:13 -0500 (Mon, 10 Feb 2025) EllapsedTime: 27.3 seconds RetCode: 0 Status: OK PackageFile: iBMQ_1.47.0.zip PackageFileSize: 2.452 MiB