Package: iBMQ Version: 1.47.0 Command: chmod a+r iBMQ -R && E:\biocbuild\bbs-3.21-bioc\R\bin\R.exe CMD build --keep-empty-dirs --no-resave-data iBMQ StartedAt: 2025-02-04 19:21:09 -0500 (Tue, 04 Feb 2025) EndedAt: 2025-02-04 19:21:43 -0500 (Tue, 04 Feb 2025) EllapsedTime: 33.7 seconds RetCode: 0 Status: OK PackageFile: iBMQ_1.47.0.tar.gz PackageFileSize: 3.886 MiB