Package: iBMQ Version: 1.47.0 Command: E:\biocbuild\bbs-3.21-bioc\R\bin\R.exe CMD check --no-multiarch --install=check:iBMQ.install-out.txt --library=E:\biocbuild\bbs-3.21-bioc\R\library --no-vignettes --timings iBMQ_1.47.0.tar.gz StartedAt: 2025-02-05 02:29:18 -0500 (Wed, 05 Feb 2025) EndedAt: 2025-02-05 02:30:21 -0500 (Wed, 05 Feb 2025) EllapsedTime: 62.8 seconds RetCode: 0 Status: OK CheckDir: iBMQ.Rcheck Warnings: 0