Package: iCARE Version: 1.35.0 Command: /Library/Frameworks/R.framework/Resources/bin/R CMD build --keep-empty-dirs --no-resave-data iCARE StartedAt: 2025-02-09 16:38:57 -0500 (Sun, 09 Feb 2025) EndedAt: 2025-02-09 16:40:32 -0500 (Sun, 09 Feb 2025) EllapsedTime: 95.0 seconds RetCode: 0 Status: OK PackageFile: iCARE_1.35.0.tar.gz PackageFileSize: 1.42 MiB