Package: iCARE Version: 1.35.0 Command: rm -rf iCARE.buildbin-libdir && mkdir iCARE.buildbin-libdir && /Users/biocbuild/BBS/utils/build-universal.sh iCARE_1.35.0.tar.gz /Library/Frameworks/R.framework/Resources/bin/R iCARE.buildbin-libdir StartedAt: 2025-02-13 00:41:24 -0500 (Thu, 13 Feb 2025) EndedAt: 2025-02-13 00:41:41 -0500 (Thu, 13 Feb 2025) EllapsedTime: 17.5 seconds RetCode: 0 Status: OK PackageFile: iCARE_1.35.0.tgz PackageFileSize: 1.505 MiB