Package: iCARE Version: 1.35.0 Command: /Library/Frameworks/R.framework/Resources/bin/R CMD build --keep-empty-dirs --no-resave-data iCARE StartedAt: 2025-02-12 17:04:29 -0500 (Wed, 12 Feb 2025) EndedAt: 2025-02-12 17:08:09 -0500 (Wed, 12 Feb 2025) EllapsedTime: 220.7 seconds RetCode: 0 Status: OK PackageFile: iCARE_1.35.0.tar.gz PackageFileSize: 1.42 MiB