Package: iCARE Version: 1.35.0 Command: /home/biocbuild/bbs-3.21-bioc/R/bin/R CMD check --install=check:iCARE.install-out.txt --library=/home/biocbuild/bbs-3.21-bioc/R/site-library --timings iCARE_1.35.0.tar.gz StartedAt: 2025-02-12 23:15:51 -0500 (Wed, 12 Feb 2025) EndedAt: 2025-02-12 23:20:38 -0500 (Wed, 12 Feb 2025) EllapsedTime: 286.4 seconds RetCode: 0 Status: WARNINGS CheckDir: iCARE.Rcheck Warnings: 1