Package: iCARE Version: 1.35.0 Command: E:\biocbuild\bbs-3.21-bioc\R\bin\R.exe CMD check --no-multiarch --install=check:iCARE.install-out.txt --library=E:\biocbuild\bbs-3.21-bioc\R\library --no-vignettes --timings iCARE_1.35.0.tar.gz StartedAt: 2025-02-10 02:02:15 -0500 (Mon, 10 Feb 2025) EndedAt: 2025-02-10 02:04:14 -0500 (Mon, 10 Feb 2025) EllapsedTime: 118.5 seconds RetCode: 0 Status: WARNINGS CheckDir: iCARE.Rcheck Warnings: 1