Package: iCOBRA Version: 1.35.1 Maintainer: Charlotte Soneson MaintainerEmail: charlottesoneson at gmail.com git_url: https://git.bioconductor.org/packages/iCOBRA git_branch: devel git_last_commit: 29e512f git_last_commit_date: 2024-12-31 04:23:51 -0500 (Tue, 31 Dec 2024)