Package: iCOBRA Version: 1.35.1 Command: rm -rf iCOBRA.buildbin-libdir && mkdir iCOBRA.buildbin-libdir && /Users/biocbuild/BBS/utils/build-universal.sh iCOBRA_1.35.1.tar.gz /Library/Frameworks/R.framework/Resources/bin/R iCOBRA.buildbin-libdir StartedAt: 2025-02-12 22:23:00 -0500 (Wed, 12 Feb 2025) EndedAt: 2025-02-12 22:23:06 -0500 (Wed, 12 Feb 2025) EllapsedTime: 5.1 seconds RetCode: 0 Status: OK PackageFile: iCOBRA_1.35.1.tgz PackageFileSize: 2.735 MiB