Package: iCOBRA Version: 1.35.1 Command: /Library/Frameworks/R.framework/Resources/bin/R CMD check --install=check:iCOBRA.install-out.txt --library=/Library/Frameworks/R.framework/Resources/library --no-vignettes --timings iCOBRA_1.35.1.tar.gz StartedAt: 2025-02-12 19:45:21 -0500 (Wed, 12 Feb 2025) EndedAt: 2025-02-12 19:46:06 -0500 (Wed, 12 Feb 2025) EllapsedTime: 44.6 seconds RetCode: 0 Status: OK CheckDir: iCOBRA.Rcheck Warnings: 0