Package: iCOBRA Version: 1.35.1 Command: /home/biocbuild/R/R/bin/R CMD build --keep-empty-dirs --no-resave-data iCOBRA StartedAt: 2025-01-28 23:41:21 -0000 (Tue, 28 Jan 2025) EndedAt: 2025-01-28 23:41:57 -0000 (Tue, 28 Jan 2025) EllapsedTime: 36.0 seconds RetCode: 0 Status: OK PackageFile: iCOBRA_1.35.1.tar.gz PackageFileSize: 2.84 MiB