Package: iCOBRA Version: 1.35.1 Command: rm -rf iCOBRA.buildbin-libdir && mkdir iCOBRA.buildbin-libdir && /Users/biocbuild/BBS/utils/build-universal.sh iCOBRA_1.35.1.tar.gz /Library/Frameworks/R.framework/Resources/bin/R iCOBRA.buildbin-libdir StartedAt: 2025-02-10 00:58:21 -0500 (Mon, 10 Feb 2025) EndedAt: 2025-02-10 00:58:44 -0500 (Mon, 10 Feb 2025) EllapsedTime: 22.1 seconds RetCode: 0 Status: OK PackageFile: iCOBRA_1.35.1.tgz PackageFileSize: 2.734 MiB