Package: iCOBRA Version: 1.35.1 Command: /Library/Frameworks/R.framework/Resources/bin/R CMD build --keep-empty-dirs --no-resave-data iCOBRA StartedAt: 2025-02-09 17:07:37 -0500 (Sun, 09 Feb 2025) EndedAt: 2025-02-09 17:08:12 -0500 (Sun, 09 Feb 2025) EllapsedTime: 35.5 seconds RetCode: 0 Status: OK PackageFile: iCOBRA_1.35.1.tar.gz PackageFileSize: 3.125 MiB