Package: iCOBRA Version: 1.35.1 Command: /Library/Frameworks/R.framework/Resources/bin/R CMD INSTALL iCOBRA StartedAt: 2025-02-09 15:27:49 -0500 (Sun, 09 Feb 2025) EndedAt: 2025-02-09 15:28:05 -0500 (Sun, 09 Feb 2025) EllapsedTime: 16.5 seconds RetCode: 0 Status: OK