Package: iCOBRA Version: 1.35.1 Command: rm -rf iCOBRA.buildbin-libdir && mkdir iCOBRA.buildbin-libdir && E:\biocbuild\bbs-3.21-bioc\R\bin\R.exe CMD INSTALL --build --library=iCOBRA.buildbin-libdir iCOBRA_1.35.1.tar.gz StartedAt: 2025-02-10 07:57:00 -0500 (Mon, 10 Feb 2025) EndedAt: 2025-02-10 07:58:19 -0500 (Mon, 10 Feb 2025) EllapsedTime: 78.8 seconds RetCode: 0 Status: OK PackageFile: iCOBRA_1.35.1.zip PackageFileSize: 2.41 MiB