Package: iCOBRA Version: 1.35.1 Command: chmod a+r iCOBRA -R && E:\biocbuild\bbs-3.21-bioc\R\bin\R.exe CMD build --keep-empty-dirs --no-resave-data iCOBRA StartedAt: 2025-02-09 19:18:58 -0500 (Sun, 09 Feb 2025) EndedAt: 2025-02-09 19:19:40 -0500 (Sun, 09 Feb 2025) EllapsedTime: 42.0 seconds RetCode: 0 Status: OK PackageFile: iCOBRA_1.35.1.tar.gz PackageFileSize: 2.807 MiB