Package: iChip Version: 1.61.0 Maintainer: Qianxing Mo MaintainerEmail: qianxing.mo at moffitt.org git_url: https://git.bioconductor.org/packages/iChip git_branch: devel git_last_commit: c3b6d48 git_last_commit_date: 2024-10-29 09:33:12 -0500 (Tue, 29 Oct 2024)