Package: iChip Version: 1.61.0 Command: /Library/Frameworks/R.framework/Resources/bin/R CMD check --install=check:iChip.install-out.txt --library=/Library/Frameworks/R.framework/Resources/library --no-vignettes --timings iChip_1.61.0.tar.gz StartedAt: 2025-02-12 21:08:52 -0500 (Wed, 12 Feb 2025) EndedAt: 2025-02-12 21:09:32 -0500 (Wed, 12 Feb 2025) EllapsedTime: 40.1 seconds RetCode: 0 Status: WARNINGS CheckDir: iChip.Rcheck Warnings: 1