Package: iChip Version: 1.61.0 Command: /home/biocbuild/bbs-3.21-bioc/R/bin/R CMD build --keep-empty-dirs --no-resave-data iChip StartedAt: 2025-02-09 17:42:01 -0500 (Sun, 09 Feb 2025) EndedAt: 2025-02-09 17:42:31 -0500 (Sun, 09 Feb 2025) EllapsedTime: 30.0 seconds RetCode: 0 Status: OK PackageFile: iChip_1.61.0.tar.gz PackageFileSize: 1.709 MiB