Package: iChip Version: 1.61.0 Command: /home/biocbuild/bbs-3.21-bioc/R/bin/R CMD check --install=check:iChip.install-out.txt --library=/home/biocbuild/bbs-3.21-bioc/R/site-library --timings iChip_1.61.0.tar.gz StartedAt: 2025-02-09 23:15:54 -0500 (Sun, 09 Feb 2025) EndedAt: 2025-02-09 23:16:47 -0500 (Sun, 09 Feb 2025) EllapsedTime: 53.1 seconds RetCode: 0 Status: WARNINGS CheckDir: iChip.Rcheck Warnings: 1