Package: iChip Version: 1.61.0 Command: chmod a+r iChip -R && E:\biocbuild\bbs-3.21-bioc\R\bin\R.exe CMD build --keep-empty-dirs --no-resave-data iChip StartedAt: 2025-02-09 19:18:50 -0500 (Sun, 09 Feb 2025) EndedAt: 2025-02-09 19:19:48 -0500 (Sun, 09 Feb 2025) EllapsedTime: 57.9 seconds RetCode: 0 Status: OK PackageFile: iChip_1.61.0.tar.gz PackageFileSize: 1.59 MiB