Package: iChip Version: 1.61.0 Command: E:\biocbuild\bbs-3.21-bioc\R\bin\R.exe CMD check --no-multiarch --install=check:iChip.install-out.txt --library=E:\biocbuild\bbs-3.21-bioc\R\library --no-vignettes --timings iChip_1.61.0.tar.gz StartedAt: 2025-02-13 02:13:42 -0500 (Thu, 13 Feb 2025) EndedAt: 2025-02-13 02:14:29 -0500 (Thu, 13 Feb 2025) EllapsedTime: 47.3 seconds RetCode: 0 Status: WARNINGS CheckDir: iChip.Rcheck Warnings: 1