Package: iGC Version: 1.37.0 Command: rm -rf iGC.buildbin-libdir && mkdir iGC.buildbin-libdir && /Users/biocbuild/BBS/utils/build-universal.sh iGC_1.37.0.tar.gz /Library/Frameworks/R.framework/Resources/bin/R iGC.buildbin-libdir StartedAt: 2025-02-03 22:53:38 -0500 (Mon, 03 Feb 2025) EndedAt: 2025-02-03 22:53:41 -0500 (Mon, 03 Feb 2025) EllapsedTime: 3.1 seconds RetCode: 0 Status: OK PackageFile: iGC_1.37.0.tgz PackageFileSize: 3.137 MiB