Package: iGC Version: 1.37.0 Command: /Library/Frameworks/R.framework/Resources/bin/R CMD build --keep-empty-dirs --no-resave-data iGC StartedAt: 2025-02-09 16:39:53 -0500 (Sun, 09 Feb 2025) EndedAt: 2025-02-09 16:40:02 -0500 (Sun, 09 Feb 2025) EllapsedTime: 9.1 seconds RetCode: 0 Status: OK PackageFile: iGC_1.37.0.tar.gz PackageFileSize: 2.951 MiB