Package: iGC Version: 1.37.0 Command: /Library/Frameworks/R.framework/Resources/bin/R CMD check --install=check:iGC.install-out.txt --library=/Library/Frameworks/R.framework/Resources/library --no-vignettes --timings iGC_1.37.0.tar.gz StartedAt: 2025-02-04 21:07:53 -0500 (Tue, 04 Feb 2025) EndedAt: 2025-02-04 21:08:29 -0500 (Tue, 04 Feb 2025) EllapsedTime: 36.2 seconds RetCode: 0 Status: OK CheckDir: iGC.Rcheck Warnings: 0