Package: iGC Version: 1.37.0 Command: /Library/Frameworks/R.framework/Resources/bin/R CMD INSTALL iGC StartedAt: 2025-02-09 15:04:36 -0500 (Sun, 09 Feb 2025) EndedAt: 2025-02-09 15:05:06 -0500 (Sun, 09 Feb 2025) EllapsedTime: 29.5 seconds RetCode: 0 Status: OK