Package: iGC Version: 1.37.0 Command: /home/biocbuild/bbs-3.21-bioc/R/bin/R CMD check --install=check:iGC.install-out.txt --library=/home/biocbuild/bbs-3.21-bioc/R/site-library --timings iGC_1.37.0.tar.gz StartedAt: 2025-02-04 23:15:48 -0500 (Tue, 04 Feb 2025) EndedAt: 2025-02-04 23:16:29 -0500 (Tue, 04 Feb 2025) EllapsedTime: 41.0 seconds RetCode: 0 Status: OK CheckDir: iGC.Rcheck Warnings: 0