Package: iGC Version: 1.37.0 Command: rm -rf iGC.buildbin-libdir && mkdir iGC.buildbin-libdir && E:\biocbuild\bbs-3.21-bioc\R\bin\R.exe CMD INSTALL --build --library=iGC.buildbin-libdir iGC_1.37.0.tar.gz StartedAt: 2025-02-10 07:57:13 -0500 (Mon, 10 Feb 2025) EndedAt: 2025-02-10 07:57:33 -0500 (Mon, 10 Feb 2025) EllapsedTime: 19.6 seconds RetCode: 0 Status: OK PackageFile: iGC_1.37.0.zip PackageFileSize: 3.131 MiB