Package: iGC Version: 1.37.0 Command: E:\biocbuild\bbs-3.21-bioc\R\bin\R.exe CMD INSTALL iGC StartedAt: 2025-02-04 15:19:22 -0500 (Tue, 04 Feb 2025) EndedAt: 2025-02-04 15:19:40 -0500 (Tue, 04 Feb 2025) EllapsedTime: 18.1 seconds RetCode: 0 Status: OK