Package: iNETgrate Version: 1.5.0 Command: /Library/Frameworks/R.framework/Resources/bin/R CMD build --keep-empty-dirs --no-resave-data iNETgrate StartedAt: 2025-02-05 16:42:19 -0500 (Wed, 05 Feb 2025) EndedAt: 2025-02-05 16:44:00 -0500 (Wed, 05 Feb 2025) EllapsedTime: 101.1 seconds RetCode: 0 Status: OK PackageFile: iNETgrate_1.5.0.tar.gz PackageFileSize: 3.979 MiB