Package: iNETgrate Version: 1.5.0 Command: /Library/Frameworks/R.framework/Resources/bin/R CMD check --install=check:iNETgrate.install-out.txt --library=/Library/Frameworks/R.framework/Resources/library --no-vignettes --timings iNETgrate_1.5.0.tar.gz StartedAt: 2025-02-05 19:49:40 -0500 (Wed, 05 Feb 2025) EndedAt: 2025-02-05 19:55:20 -0500 (Wed, 05 Feb 2025) EllapsedTime: 340.1 seconds RetCode: 0 Status: OK CheckDir: iNETgrate.Rcheck Warnings: 0